BEGIN:VCALENDAR
VERSION:2.0
PRODID:-//Art Incept - ECPv6.11.0.1//NONSGML v1.0//EN
CALSCALE:GREGORIAN
METHOD:PUBLISH
X-WR-CALNAME:Art Incept
X-ORIGINAL-URL:https://artincept.com
X-WR-CALDESC:Events for Art Incept
REFRESH-INTERVAL;VALUE=DURATION:PT1H
X-Robots-Tag:noindex
X-PUBLISHED-TTL:PT1H
BEGIN:VTIMEZONE
TZID:Asia/Kolkata
BEGIN:STANDARD
TZOFFSETFROM:+0530
TZOFFSETTO:+0530
TZNAME:IST
DTSTART:20210101T000000
END:STANDARD
END:VTIMEZONE
BEGIN:VTIMEZONE
TZID:UTC
BEGIN:STANDARD
TZOFFSETFROM:+0000
TZOFFSETTO:+0000
TZNAME:UTC
DTSTART:20210101T000000
END:STANDARD
END:VTIMEZONE
BEGIN:VEVENT
DTSTART;VALUE=DATE:20210219
DTEND;VALUE=DATE:20210329
DTSTAMP:20260420T191751
CREATED:20210828T025407Z
LAST-MODIFIED:20211025T103830Z
UID:8938-1613692800-1616975999@artincept.com
SUMMARY:Desolate
DESCRIPTION:An exhibition that attempts to explore the extension of  image-based practices through materiality and technique. \nCurated by Rahul Kumar  \n  \nThe curatorial framework for this exhibition is two pronged: conceptual & emotional  reference to the idea of desolate\, and exploring the genre of image-based art.  \nWith the advent of the COVD-19 pandemic\, humanity has experienced isolation like never  before. But what does solitary mean to us?  \nDoes it imply a sense of freedom\, or does it evoke loneliness?  \nDoes it infer hierarchy\, or is it about a feeling of being left-out?  \nDoes it mean strength in standing tall\, or does it encourage looking inward?  \nSelected early to mid-career artists from all across the country react to this impression in  their own ways.  \nAll the practices included in this show are also bound by the use of photography as an  element in their works. There are photographers who present images on the idea and notion  of desolate itself. And then there are artists who merely use image as a component in their  work. The exhibition attempts to explore this extension of image-based practices through  materiality (variety of surfaces to print images)\, as also the techniques used in the process  of producing the works.  \n  \nANDHIKA RAMADIANAquaticDigital Print on paper20 x 16 ′′\n  \nANDHIKA RAMADIANCuriosityDigital Print on paper20 x 16 ′′\n  \nANDHIKA RAMADIANCycleDigital Print on paper20 x 20 ′′\n  \nANDHIKA RAMADIANStuckDigital Print on paper20 x 20 ′′\n  \nJIGNESH PANCHALLanguage of the Wall set of 9 \, 2020Mixed Media on Paper12 x 8 ′′\n  \nRANJEET SINGHThe Black Truth Project 14\, 2018-2019Archival Print on Paper20 x 14 ′′\n  \nRANJEET SINGHThe Black Truth Project 2\, 2018-2019Archival Print on Paper20 x 14 ′′\n  \nRANJEET SINGHThe Black Truth Projects 3\, 2018-2019Archival Print on Paper20 x 14 ′′\n  \nSAMANTA BATRA MEHTAThe Last of the Uncolonized Lands #6\, 2010C Print30 x 30 ′′\n  \nSANJAY DASCosmic RythmArchival Print on Paper50 x 40 ′′\n  \nSANJAY DASPrayer Flags 1Archival Print on Paper33 x 22 ′′\n  \nSANJAY DASSerenity 1Archival Print on Paper22 x 33 ′′\n  \nSANJAY DASSerenity 2Archival Print on Paper22 x 33 ′′\n  \nSANJAY DASUntitled 1Archival Print on Paper30 x 45 ′′\n  \nSAVITHA RAVIIdeal Home 1\, 2019Intaglio Print31 x 22 ′′\n  \nSAVITHA RAVIIdeal Home II\, 2019Intaglio Print31 x 22 ′′\n  \nSAVITHA RAVIReflection of Rain set of 6 \, 2019Cyanotype on Woodcut Print13 x 9 ′′\n  \nSAVITHA RAVIRemembrance- Places\, Objects and Feelings set of 4 \, 2019Cyanotype on Intaglio Print13 x 19.5 ′′\n  \nSAVITHA RAVIThe Corridor\, 2020Intaglio Print21.5 x 42 ′′\n  \nSAVITHA RAVIThe Ideal Home III\, 2019Intaglio Print21.5 x 21.5 ′′\n 
URL:https://artincept.com/event/desolate/
LOCATION:Museo Camera\, Shri Ganesh Mandir Marg\, DLF Phase IV\, Sector 28\, Gurugram\, Haryana\, 122002\, India
CATEGORIES:Gallery Exhibitions
ATTACH;FMTTYPE=image/jpeg:https://artincept.com/wp-content/uploads/2021/08/Curiosity-scaled.jpg
END:VEVENT
BEGIN:VEVENT
DTSTART;VALUE=DATE:20210324
DTEND;VALUE=DATE:20210401
DTSTAMP:20260420T191751
CREATED:20210907T031939Z
LAST-MODIFIED:20240417T121618Z
UID:9078-1616544000-1617235199@artincept.com
SUMMARY:Still Life
DESCRIPTION:The process of living is tinged with uncertainty\, an uncertainty made\nmore palpable in daily events\, encounters\, and tragedies. Its basis is\nthe acceptance of universal frailties\, the loss of all things. A house is\nbuilt; it corrodes in rain and sun\, is beaten by seasonal changes.\nOrganic growth rises in its crevices. Every day it dies a little more.\nTill walls cave in\, brick turns to dust\, and fresh life replaces\ncompletely\, till even the plants die and disappear into earth and soil\nleaving but one reminder: Youth is but a minor itch\, it passes; the\nprogression of ageing is unforgiving as ever. Still\, evolutionary loss is\ncomforted by time’s elongated length. People feast before extinction\,\nfind God in belief; they migrate in hope. Tradition and custom\nintervene. Mosque\, temple\, and church are clothed in conforming\nuniforms. Games are invented to enlarge purpose\, create conflicts\,\nelongate life. Ageing\, decline and demise are accorded personal time\nframes\, accelerated for some\, stretched and seemingly limitless for\nothers. We live\, we learn to love because we are dying. The\narcheology of cities\, the rise and decay of architecture\, the dimming\nfocus of design and material objects\, private transformations and\npublic cultures\, the physical residue of all that manifests as life and\nmaterial\, transforms from birth to love to struggle to dissolution\, to\nloss and memory\, finally to recall and remembrance. Things die\,\nthere’s grief. Things remain beautiful\, even in sorrow. \n-Gautam Bhatia \n  \nGAUTAM BHATIAAmbitionMixed Media on Paper\n  \nGAUTAM BHATIABig BusinessMixed Media on Paper\n  \n  \nGAUTAM BHATIACall of NatureMixed Media on Paper\n  \n  \n  \n  \n  \nGAUTAM BHATIACurse of Common PlaceMixed Media on Paper\n  \nGAUTAM BHATIACycle of WealthMixed Media on Paper\n  \nGAUTAM BHATIADeath of BirthMixed Media on Paper\n  \nGAUTAM BHATIAEnd of ReligionMixed Media on Paper\n  \nGAUTAM BHATIAFamily ReunionMixed Media on Paper\n  \nGAUTAM BHATIAFeasting ExtinctionMixed Media on Paper\n  \nGAUTAM BHATIAGoing NowhereMixed Media on Paper\n  \nGAUTAM BHATIAHouse of CardsMixed Media on Paper\n  \nGAUTAM BHATIAInnocence of LossMixed Media on Paper\n  \nGAUTAM BHATIALabor of LoveMixed Media on Paper\n  \nGAUTAM BHATIAThe MakerMixed Media on Paper\n  \nGAUTAM BHATIAPainterMixed Media on Paper\n  \nGAUTAM BHATIAReviving FaithMixed Media on Paper\n  \nGAUTAM BHATIAThe Birds have FlownMixed Media on Paper\n  \nGAUTAM BHATIAThe Birth of DeathMixed Media on Paper\n  \nGAUTAM BHATIAThis Is LifeMixed Media on Paper\n  \nGAUTAM BHATIAUnwashed CityMixed Media on Paper\n  \nGAUTAM BHATIAWriterMixed Media on Paper\n  \nGAUTAM BHATIAPrayerBronze\n  \nGAUTAM BHATIASelfie Circa 1930Bronze\n  \nGAUTAM BHATIAselfie Circa 1950Bronze\n  \nGAUTAM BHATIAUnveiledBronze\n  \nGAUTAM BHATIAToothpaste of MigrantsBronze\n  \nGAUTAM BHATIAWomen of FaithBronze\n  \nGAUTAM BHATIAHung ParliamentBronze\n  \nGAUTAM BHATIAGame of ThronesMixed Media on Paper\n  \nGAUTAM BHATIAMercy KillingMixed media on paper
URL:https://artincept.com/event/still-life/
LOCATION:Maharashtra
CATEGORIES:Gallery Exhibitions
ATTACH;FMTTYPE=image/jpeg:https://artincept.com/wp-content/uploads/2021/09/Family_Reunion.jpg
END:VEVENT
END:VCALENDAR